BEGIN:VCALENDAR
VERSION:2.0
PRODID:-//Tukios.com/
BEGIN:VEVENT
UID:12e5343e-8978-4dab-967a-fad34546bc81@www.affoplano.com
DTSTAMP:20260423T204801Z
DTSTART:20260502T160000Z
DTEND:20260502T170000Z
SUMMARY:Celebration of Life
DESCRIPTION:
URL:https://www.affoplano.com/obituaries/faith-collins
LOCATION:Preston Meadow Lutheran Church 6801 Coit Road  Plano TX 75024
GEO:33.0680311;-96.7711682
END:VEVENT
END:VCALENDAR